BEGIN:VCALENDAR
VERSION:2.0
PRODID:-//Ortspartei SVP Worben //NONSGML Events //EN
CALSCALE:GREGORIAN
X-WR-CALNAME:Ortspartei SVP Worben
BEGIN:VEVENT
CREATED:20260421T115917Z
UID:1448
DTEND:20260812T200000
DTSTART:20260812T193000
DTSTAMP:20260421T151507Z
LOCATION:Gemeindesaal Worben
DESCRIPTION:Die Kandidatinnen und Kandidaten für die Gemeindewahlen vom 25. Oktob
SUMMARY:Nominationsversammlung
ORGANIZER:SVP Sektion Worben
URL;VALUE=URI:https://www.svp-worben.ch/aktuell/termine/nominationsversammlung-2/
TRANSP:OPAQUE
END:VEVENT
END:VCALENDAR
