BEGIN:VCALENDAR
VERSION:2.0
PRODID:-//Ortspartei SVP Worben //NONSGML Events //EN
CALSCALE:GREGORIAN
X-WR-CALNAME:Ortspartei SVP Worben
BEGIN:VEVENT
CREATED:20260421T122259Z
UID:1451
DTEND:20260829T170000
DTSTART:20260829T130000
DTSTAMP:20260421T170719Z
LOCATION:Diessbach\, Biogasanlage
DESCRIPTION:Besichtigung der Biogasanlage in Diessbach. Individuelle Anreise per V
SUMMARY:Familienausflug
ORGANIZER:SVP Sektion Worben
URL;VALUE=URI:https://www.svp-worben.ch/aktuell/termine/familienausflug/
TRANSP:OPAQUE
END:VEVENT
END:VCALENDAR
